BEGIN:VCALENDAR
VERSION:2.0
PRODID:-//Dent2Med&trade; - ECPv4.6.14.1//NONSGML v1.0//EN
CALSCALE:GREGORIAN
METHOD:PUBLISH
X-WR-CALNAME:Dent2Med&trade;
X-ORIGINAL-URL:https://dent2medsoftware.com
X-WR-CALDESC:Events for Dent2Med&trade;
BEGIN:VEVENT
DTSTART;TZID=UTC+0:20190904T090000
DTEND;TZID=UTC+0:20191008T180000
DTSTAMP:20260421T113232
CREATED:20190816T220603Z
LAST-MODIFIED:20190816T220603Z
UID:2604-1567587600-1570557600@dent2medsoftware.com
SUMMARY:ADA FDI World Dental Congress
DESCRIPTION:ADA FDI World Dental Congress provides community oral health education\, supports the well-being of the dental family\, and engages in legislative advocacy for the welfare of the public and the dental profession. The Alliance is women and men of all ages and life stages\, connecting together because we make a difference for our spouses and partners\, our communities\, and the cause of dentistry. \n
URL:https://dent2medsoftware.com/event/ada-fdi-world-dental-congress/
LOCATION:747 Howard St\, San Francisco\, CA\, 94103\, United States
END:VEVENT
END:VCALENDAR